Workbook

Sheet Performance Score Card
A1: 7 FUNDAMENTAL PRINCIPLES IN OPERATIONS PERFORMANCE SCORE CARD
A3: Instructions: Rate each question from 1 to 5, where:
A4: 5 | B4: Fully implemented and delivering significant impact | E4: Scoring & Assessment: | F4: 23 – 25 points | G4: World-Class Business – High efficiency, strong profitability, and consistent growth.
A5: 4 | B5: Mostly implemented with minor gaps | F5: 20– 22 points | G5: Industry Leader – Competitive but with minor areas for optimization.
A6: 3 | B6: Partially implemented, needs further optimization | F6: 17 – 19 points | G6: Average Performer – Meeting some targets but inconsistent execution.
A7: 2 | B7: Limited implementation, causing inefficiencies | F7: Below 16 points | G7: Underperforming Business – Struggles with meeting commitments and profitability.
A8: 1 | B8: No implementation, high operational risk
A10: Principle | B10: # | C10: KPI | D10: 1 (Poor) | E10: 2 (Below Average) | F10: 3 (Competitive) | G10: 4 (Excellent) | H10: 5 (World-Class) | I10: SCORE | J10: Sub-Total | K10: Rating
A11: Principle #1: The Goal. The Goal of the business is to make money and continually grow. | B11: 1 | C11: Revenue Growth. Formula: ((Current Revenue - Previous Revenue) / Previous Revenue) × 100 | D11: Declining | E11: Flat growth | F11: 1 – 5% growth | G11: 6 – 10% growth | H11: >10% growth | J11: =SUM(I11:I15) -> 0 | K11: =IF(J11>=23, "World Class", IF(J11>=20, "Industry Leader", IF(J11>=17, "Average Performer", "Poor"))) -> Poor
B12: 2 | C12: Gross Margin. Formula: ((Revenue - COGS) / Revenue) × 100 | D12: < 10% | E12: 10 – 19% | F12: 20 – 29% | G12: 30 – 39% | H12: ≥ 40%
B13: 3 | C13: Return On Investment (ROI). Formula: (Net profit / Investment cost) × 100 | D13: < 5% | E13: 5 – 9% | F13: 10 – 19% | G13: 20 – 29% | H13: ≥ 30%
B14: 4 | C14: EBITDA. Formula: Earnings Before Interest, Taxes, Depreciation, and Amortization | D14: Negative | E14: Break-even | F14: Low positive | G14: Strong positive | H14: Highly positive
B15: 5 | C15: Operating Profit Margin. Formula: (Operating Income / Revenue) × 100 | D15: < 5% | E15: 5 – 9% | F15: 10 – 14% | G15: 15 – 19% | H15: ≥ 20%
A16: Principle #2: Throughput. Throughput is the rate at which the business generates money through sales. The Goal of the business is to make money and continually grow. | B16: 1 | C16: Production Output Efficiency | D16: < 40% | E16: 40 – 59% | F16: 60 – 79% | G16: 80 – 89% | H16: ≥ 90% | J16: =SUM(I16:I20) -> 0 | K16: =IF(J16>=23, "World Class", IF(J16>=20, "Industry Leader", IF(J16>=17, "Average Performer", "Poor"))) -> Poor
B17: 2 | C17: Lead Time for Production | D17: > 30 days | E17: 21 – 30 days | F17: 15 – 20 days | G17: 7 – 14 days | H17: ≤ 6 days
B18: 3 | C18: Operational Cost Per Unit | D18: > 20% increase | E18: 10 – 19% increase | F18: 0 – 9% increase | G18: No change or decrease | H18: ≥ 10% decrease
B19: 4 | C19: Quality Defect Rate (Final Yield) | D19: > 5% defects | E19: 3 – 5% defects | F19: 2 – 3% defects | G19: 1 – 2% defects | H19: ≤ 1% defects
B20: 5 | C20: On-Time Delivery (OTD) Rate | D20: < 80% | E20: 80 – 89% | F20: 90 – 94% | G20: 95 – 99% | H20: ≥ 99%
A21: Principle #3: Constraint. Constraint disctates throughput performance. | B21: 1 | C21: Constraint Identification Time | D21: > 7 days | E21: 5 – 7 days | F21: 3 – 4 days | G21: 2 days | H21: ≤ 1 day | J21: =SUM(I21:I25) -> 0 | K21: =IF(J21>=23, "World Class", IF(J21>=20, "Industry Leader", IF(J21>=17, "Average Performer", "Poor"))) -> Poor
B22: 2 | C22: Hold Lots Percentage | D22: > 20% | E22: 15 – 19% | F22: 10 – 14% | G22: 5 – 9% | H22: ≤ 4%
B23: 3 | C23: Operational Efficiency | D23: < 50% efficiency | E23: 50 – 69% efficiency | F23: 70 – 79% efficiency | G23: 80 – 89% efficiency | H23: ≥ 90% efficiency
B24: 4 | C24: Quality Efficiency | D24: < 80% quality yield | E24: 80 – 84% quality yield | F24: 85 – 89% quality yield | G24: 90 – 94% quality yield | H24: ≥ 95% quality yield
B25: 5 | C25: Availability Efficiency | D25: < 75% equipment availability | E25: 75 – 84% equipment availability | F25: 85 – 89% equipment availability | G25: 90 – 94% equipment availability | H25: ≥ 95% equipment availability
A26: Principle #4: Variability. Variability reduces the predictability of the constraint. | B26: 1 | C26: Output Consistency & WIP Stability (% deviation from production target & optimal WIP) | D26: > 20% deviation | E26: 15 – 20% deviation | F26: 10 – 14% deviation | G26: 5 – 9% deviation | H26: ≤ 4% deviation | J26: =SUM(I26:I30) -> 0 | K26: =IF(J26>=23, "World Class", IF(J26>=20, "Industry Leader", IF(J26>=17, "Average Performer", "Poor"))) -> Poor
B27: 2 | C27: Equipment Downtime (% of lost production time due to machine issues) | D27: > 10% downtime | E27: 7 – 10% downtime | F27: 4 – 6% downtime | G27: 2 – 3% downtime | H27: ≤ 1% downtime
B28: 3 | C28: First-Pass Yield (% of units passing without rework) | D28: < 80% | E28: 80 – 89% | F28: 90 – 94% | G28: 95 – 97% | H28: ≥ 98%
B29: 4 | C29: Cost of Poor Quality (COQ) – Internal & External Failure Costs (% of revenue or production cost) | D29: > 15% | E29: 10 – 15% | F29: 7 – 10% | G29: 5 – 7% | H29: ≤ 5%
B30: 5 | C30: Cycle Time Variation (% deviation from standard process time) | D30: > 20% deviation | E30: 15 – 20% deviation | F30: 10 – 14% deviation | G30: 5 – 9% deviation | H30: ≤ 4% deviation
A31: Principle #5: Balanced Factory. A balanced flow system protects the system from variability. | B31: 1 | C31: Capacity Buffer (% of extra capacity available to handle demand surges) | D31: < 5% | E31: 5 – 9% | F31: 10 – 14% | G31: 15 – 19% | H31: ≥ 20% | J31: =SUM(I31:I35) -> 0 | K31: =IF(J31>=23, "World Class", IF(J31>=20, "Industry Leader", IF(J31>=17, "Average Performer", "Poor"))) -> Poor
B32: 2 | C32: Inventory Turns | D32: < 2 turns | E32: 2 – 3 turns | F32: 4 – 5 turns | G32: 6 – 7 turns | H32: ≥ 8 turns
B33: 3 | C33: Labor Efficiency (% of productive time vs. total labor hours) | D33: < 50% | E33: 50 – 69% | F33: 70 – 79% | G33: 80 – 89% | H33: ≥ 90%
B34: 4 | C34: Changeover Time Efficiency (% of planned vs. actual changeover time met) | D34: < 50% met | E34: 50 – 69% met | F34: 70 – 79% met | G34: 80 – 89% met | H34: ≥ 90% met
B35: 5 | C35: Factory Utilization (% of total available production time used effectively) | D35: < 50% | E35: 50 – 69% | F35: 70 – 79% | G35: 80 – 89% | H35: ≥ 90%
A36: Principle #6: Smart Factory. Technology is an enabler of excellence. | B36: 1 | C36: Adoption of Data Automation Tools (% of operations integrated with ERP, MES, BI, AI/ML, RPA, etc.) | D36: < 30% | E36: 30 – 49% | F36: 50 – 69% | G36: 70 – 89% | H36: ≥ 90% | J36: =SUM(I36:I40) -> 0 | K36: =IF(J36>=23, "World Class", IF(J36>=20, "Industry Leader", IF(J36>=17, "Average Performer", "Poor"))) -> Poor
B37: 2 | C37: System-Driven Decision Rate (% of decisions based on system data vs. manual judgment) | D37: < 30% | E37: 30 – 49% | F37: 50 – 69% | G37: 70 – 89% | H37: ≥ 90%
B38: 3 | C38: Real-Time Data Accuracy (% of system-reported data matching actual performance) | D38: < 70% | E38: 70 – 79% | F38: 80 – 89% | G38: 90 – 94% | H38: ≥ 95%
B39: 4 | C39: Decision Lead Time (Time to analyze and respond to issues in hours) | D39: > 24 hrs | E39: 12 – 24 hrs | F39: 6 – 11 hrs | G39: 2 – 5 hrs | H39: ≤ 1 hr
B40: 5 | C40: Predictive Maintenance Implementation (% of equipment with predictive capabilities enabled) | D40: < 30% | E40: 30 – 49% | F40: 50 – 69% | G40: 70 – 89% | H40: ≥ 90%
A41: Principle #7: Breakthrough Leaders. Leaders make things happen. | B41: 1 | C41: Leadership Initiative Index (% of leaders actively driving improvement projects) | D41: < 30% | E41: 30 – 49% | F41: 50 – 69% | G41: 70 – 89% | H41: ≥ 90% | J41: =SUM(I41:I45) -> 0 | K41: =IF(J41>=23, "World Class", IF(J41>=20, "Industry Leader", IF(J41>=17, "Average Performer", "Poor"))) -> Poor
B42: 2 | C42: Problem-Solving Speed (Avg. time to resolve critical issues) | D42: > 14 days | E42: 7 – 14 days | F42: 4 – 6 days | G42: 2 – 3 days | H42: ≤ 1 day
...

Sheet Chart
A1: 7 FUNDAMENTAL PRINCIPLES IN OPERATIONS MANAGEMENT SCORE CARD
A3: Principle | B3: KPI | C3: SCORE | D3: Sub-Total | E3: Rating
A4: The Goal | B4: Revenue Growth | C4: =+'Performance Score Card'!I11 -> 0 | D4: =SUM(C4:C8) -> 0 | E4: =IF(D4>=21,"World-Class Business",IF(D4>=20,"Industry Leader",IF(D4>=17,"Average Performer",IF(D4<=17,"At Risk")))) -> At Risk
B5: Gross Margin (GM) | C5: =+'Performance Score Card'!I12 -> 0
B6: Return On Investment (ROI) | C6: =+'Performance Score Card'!I13 -> 0
B7: Free Cash Flow (FCF) | C7: =+'Performance Score Card'!I14 -> 0
B8: Operating Profit Margin | C8: =+'Performance Score Card'!I15 -> 0
A9: Throughput | B9: Production Output Efficiency | C9: =+'Performance Score Card'!I16 -> 0 | D9: =SUM(C9:C13) -> 0 | E9: =IF(D9>=21,"World-Class Business",IF(D9>=20,"Industry Leader",IF(D9>=17,"Average Performer",IF(D9<=17,"At Risk")))) -> At Risk
B10: Lead Time for Production | C10: =+'Performance Score Card'!I17 -> 0
B11: Operational Cost Per Unit | C11: =+'Performance Score Card'!I18 -> 0
B12: Quality Defect Rate | C12: =+'Performance Score Card'!I19 -> 0
B13: On-Time Delivery (OTD) Rate | C13: =+'Performance Score Card'!I20 -> 0
A14: Constraint | B14: Constraint Identification Time | C14: =+'Performance Score Card'!I21 -> 0 | D14: =SUM(C14:C18) -> 0 | E14: =IF(D14>=21,"World-Class Business",IF(D14>=20,"Industry Leader",IF(D14>=17,"Average Performer",IF(D14<=17,"At Risk")))) -> At Risk
B15: Hold Lots Percentage | C15: =+'Performance Score Card'!I22 -> 0
B16: Operational Efficiency | C16: =+'Performance Score Card'!I23 -> 0
B17: Quality Efficiency | C17: =+'Performance Score Card'!I24 -> 0
B18: Availability Efficiency | C18: =+'Performance Score Card'!I25 -> 0
A19: Variability | B19: Output Consistency | C19: =+'Performance Score Card'!I26 -> 0 | D19: =SUM(C19:C23) -> 0 | E19: =IF(D19>=21,"World-Class Business",IF(D19>=20,"Industry Leader",IF(D19>=17,"Average Performer",IF(D19<=17,"At Risk")))) -> At Risk
B20: Equipment Downtime | C20: =+'Performance Score Card'!I27 -> 0
B21: First-Pass Yield | C21: =+'Performance Score Card'!I28 -> 0
B22: Cycle Time Variation | C22: =+'Performance Score Card'!I29 -> 0
B23: WIP Stability | C23: =+'Performance Score Card'!I30 -> 0
A24: Balanced Factory | B24: Capacity Buffer | C24: =+'Performance Score Card'!I31 -> 0 | D24: =SUM(C24:C28) -> 0 | E24: =IF(D24>=21,"World-Class Business",IF(D24>=20,"Industry Leader",IF(D24>=17,"Average Performer",IF(D24<=17,"At Risk")))) -> At Risk
B25: Inventory Turns | C25: =+'Performance Score Card'!I32 -> 0
B26: Labor Efficiency | C26: =+'Performance Score Card'!I33 -> 0
B27: Changeover Time Efficiency | C27: =+'Performance Score Card'!I34 -> 0
B28: Factory Utilization | C28: =+'Performance Score Card'!I35 -> 0
A29: Smart Factory | B29: Adoption of Data Automation Tools | C29: =+'Performance Score Card'!I36 -> 0 | D29: =SUM(C29:C33) -> 0 | E29: =IF(D29>=21,"World-Class Business",IF(D29>=20,"Industry Leader",IF(D29>=17,"Average Performer",IF(D29<=17,"At Risk")))) -> At Risk
B30: System-Driven Decision Rate | C30: =+'Performance Score Card'!I37 -> 0
B31: Real-Time Data Accuracy | C31: =+'Performance Score Card'!I38 -> 0
B32: Decision Lead Time | C32: =+'Performance Score Card'!I39 -> 0
B33: Predictive Maintenance Implementation | C33: =+'Performance Score Card'!I40 -> 0
A34: Breakthrough Leaders | B34: Leadership Initiative Index | C34: =+'Performance Score Card'!I41 -> 0 | D34: =SUM(C34:C38) -> 0 | E34: =IF(D34>=21,"World-Class Business",IF(D34>=20,"Industry Leader",IF(D34>=17,"Average Performer",IF(D34<=17,"At Risk")))) -> At Risk
B35: Problem-Solving Speed | C35: =+'Performance Score Card'!I42 -> 0 | M35: MyBiz Heath Assessment
B36: Employee Engagement in CI Projects | C36: =+'Performance Score Card'!I43 -> 0
B37: Implementation Rate of Strategic Initiatives | C37: =+'Performance Score Card'!I44 -> 0
B38: Leadership Development & Succession Rate | C38: =+'Performance Score Card'!I45 -> 0
A40: 23 – 25 points: World-Class Business – High efficiency, strong profitability, and consistent growth.
A41: 20 – 22 points: Industry Leader – Competitive but with minor areas for optimization.
A42: 17 – 19 points: Average Performer – Meeting some targets but inconsistent execution.
...
